BEGIN:VCALENDAR
VERSION:2.0
PRODID:icalendar-ruby
CALSCALE:GREGORIAN
METHOD:PUBLISH
BEGIN:VEVENT
DTSTAMP:20260425T014004Z
UID:12-291767@revivemckinney.com
DTSTART:20261004T150000Z
DTEND:20261004T160000Z
CLASS:PUBLIC
CREATED:20260424T202407
DESCRIPTION:
LAST-MODIFIED:20260424T202407
LOCATION:970 S State Hwy 5 Fairview\, TX 75069
SUMMARY:Sunday Gathering
URL;VALUE=URI:https://revivemckinney.com/events/sunday-gathering/2026-10-04
ATTACH;FILENAME=IMG_2653.jpg;FMTTYPE=image/jpeg:https://dq5pwpg1q8ru0.cloud
 front.net/2025/10/06/19/39/08/325696ab-bdea-483c-96d9-083481ff416d/IMG_265
 3.jpg
ATTACH;FILENAME=IMG_6553 2.heic;FMTTYPE=image/heic:https://dq5pwpg1q8ru0.cl
 oudfront.net/2026/04/11/22/50/07/0ea21833-2385-4c82-9284-2f9547ffb9e5/IMG_
 6553%202.heic
END:VEVENT
END:VCALENDAR
